BEGIN:VCALENDAR
VERSION:2.0
PRODID:-//Artisans United - ECPv6.15.20//NONSGML v1.0//EN
CALSCALE:GREGORIAN
METHOD:PUBLISH
X-WR-CALNAME:Artisans United
X-ORIGINAL-URL:https://augallery.org
X-WR-CALDESC:Events for Artisans United
REFRESH-INTERVAL;VALUE=DURATION:PT1H
X-Robots-Tag:noindex
X-PUBLISHED-TTL:PT1H
BEGIN:VTIMEZONE
TZID:America/New_York
BEGIN:DAYLIGHT
TZOFFSETFROM:-0500
TZOFFSETTO:-0400
TZNAME:EDT
DTSTART:20230312T070000
END:DAYLIGHT
BEGIN:STANDARD
TZOFFSETFROM:-0400
TZOFFSETTO:-0500
TZNAME:EST
DTSTART:20231105T060000
END:STANDARD
BEGIN:DAYLIGHT
TZOFFSETFROM:-0500
TZOFFSETTO:-0400
TZNAME:EDT
DTSTART:20240310T070000
END:DAYLIGHT
BEGIN:STANDARD
TZOFFSETFROM:-0400
TZOFFSETTO:-0500
TZNAME:EST
DTSTART:20241103T060000
END:STANDARD
BEGIN:DAYLIGHT
TZOFFSETFROM:-0500
TZOFFSETTO:-0400
TZNAME:EDT
DTSTART:20250309T070000
END:DAYLIGHT
BEGIN:STANDARD
TZOFFSETFROM:-0400
TZOFFSETTO:-0500
TZNAME:EST
DTSTART:20251102T060000
END:STANDARD
BEGIN:DAYLIGHT
TZOFFSETFROM:-0500
TZOFFSETTO:-0400
TZNAME:EDT
DTSTART:20260308T070000
END:DAYLIGHT
BEGIN:STANDARD
TZOFFSETFROM:-0400
TZOFFSETTO:-0500
TZNAME:EST
DTSTART:20261101T060000
END:STANDARD
END:VTIMEZONE
BEGIN:VEVENT
DTSTART;TZID=America/New_York:20250324T190000
DTEND;TZID=America/New_York:20250324T203000
DTSTAMP:20260423T133239
CREATED:20250227T222008Z
LAST-MODIFIED:20250227T222456Z
UID:507-1742842800-1742848200@augallery.org
SUMMARY:Class--Wood Carving--Learn to carve in the round on a wooden carving blank
DESCRIPTION:
URL:https://augallery.org/event/class-wood-carving-2/
LOCATION:Virginia
ATTACH;FMTTYPE=image/jpeg:https://augallery.org/wp-content/uploads/2025/02/knife-carving-AU.jpg
END:VEVENT
BEGIN:VEVENT
DTSTART;TZID=America/New_York:20250301T120000
DTEND;TZID=America/New_York:20250301T150000
DTSTAMP:20260423T133239
CREATED:20250212T142922Z
LAST-MODIFIED:20250228T142036Z
UID:414-1740830400-1740841200@augallery.org
SUMMARY:Class: Beginner Wire Weaving
DESCRIPTION:Learn to create strips of woven wire. Make an adjustable wire ring or simple bangle bracelet. Class includes all materials. Basic tools and magnifying glasses are provided and may be taken home.  \n\n\n\nFor more information: Classes \n\n\n\nAges 12 and up
URL:https://augallery.org/event/beginner-wire-weaving/
LOCATION:Craft Gallery of Artisans United\, 4022 Hummer Rd\, Annandale\, Virginia\, 22003
END:VEVENT
BEGIN:VEVENT
DTSTART;TZID=America/New_York:20250224T190000
DTEND;TZID=America/New_York:20250224T203000
DTSTAMP:20260423T133239
CREATED:20250212T142601Z
LAST-MODIFIED:20250212T142603Z
UID:412-1740423600-1740429000@augallery.org
SUMMARY:Wood Carving Class: Learn to carve in the round on a wooden carving blank
DESCRIPTION:The Northern Virginia Carvers (NVC) invite ages 16 to 100 years old to participate. A release form is required to be signed prior to class starting. Anyone who is under 18 must have a responsible adult present during the full woodcarving session. Woodcarving would make a fun family activity. \n\n\n\nWood project carved will be taken home. \n\n\n\nPreregistration required. To register: Call or visit the Craft Gallery (703-941-0202; 4022 Hummer Road). Give your name\, contact information\, ages (if children). Payment by cash or check on the day of the class or before.
URL:https://augallery.org/event/wood-carving-class-learn-to-carve-in-the-round-on-a-wooden-carving-blank/
LOCATION:Craft Gallery of Artisans United\, 4022 Hummer Rd\, Annandale\, Virginia\, 22003
END:VEVENT
BEGIN:VEVENT
DTSTART;TZID=America/New_York:20241102T130000
DTEND;TZID=America/New_York:20241102T150000
DTSTAMP:20260423T133239
CREATED:20241017T175420Z
LAST-MODIFIED:20241017T175422Z
UID:180-1730552400-1730559600@augallery.org
SUMMARY:Class: Wire Wrapped Ornament
DESCRIPTION:Start celebrating the holidays by making a snowflake decorated with beads to use as a tree ornament or a sun catcher. Make your own combination of colors. We will provide all the materials; we just want you to have fun. Limited to 15 students. Minimum age: 7. Class is free of charge. 
URL:https://augallery.org/event/class-wire-wrapped-ornament/
LOCATION:Craft Gallery of Artisans United\, 4022 Hummer Rd\, Annandale\, Virginia\, 22003
END:VEVENT
BEGIN:VEVENT
DTSTART;TZID=America/New_York:20241102T120000
DTEND;TZID=America/New_York:20241102T150000
DTSTAMP:20260423T133239
CREATED:20241017T171840Z
LAST-MODIFIED:20241017T174457Z
UID:169-1730548800-1730559600@augallery.org
SUMMARY:Holiday Show Opening Reception
DESCRIPTION:Food\, fun\, and festivities for everyone
URL:https://augallery.org/event/holiday-show-opening-reception/
LOCATION:Craft Gallery of Artisans United\, 4022 Hummer Rd\, Annandale\, Virginia\, 22003
END:VEVENT
BEGIN:VEVENT
DTSTART;TZID=America/New_York:20241028T193000
DTEND;TZID=America/New_York:20241028T203000
DTSTAMP:20260423T133239
CREATED:20241017T174413Z
LAST-MODIFIED:20241017T174416Z
UID:176-1730143800-1730147400@augallery.org
SUMMARY:Class: Wood Carving
DESCRIPTION:Class will focus on very beginning technique. Students will carve a small mushroom. If you have started a project in a previous Northern Virginia Carvers (NVC) class\, you may bring that project. No additional cost in that case.  \n\n\n\nKnives and safety equipment to be used during the session will be provided.  \n\n\n\nMinimum age 16; if under age 18-must be accompanied by an adult the entire time. \n\n\n\n Maximum # of students per class- 8.
URL:https://augallery.org/event/class-wood-carving/
LOCATION:Craft Gallery of Artisans United\, 4022 Hummer Rd\, Annandale\, Virginia\, 22003
END:VEVENT
END:VCALENDAR